BEGIN:VCALENDAR
VERSION:2.0
PRODID:-//SJB Essen - ECPv6.15.20//NONSGML v1.0//EN
CALSCALE:GREGORIAN
METHOD:PUBLISH
X-ORIGINAL-URL:https://sjb-essen.de
X-WR-CALDESC:Veranstaltungen für SJB Essen
REFRESH-INTERVAL;VALUE=DURATION:PT1H
X-Robots-Tag:noindex
X-PUBLISHED-TTL:PT1H
BEGIN:VTIMEZONE
TZID:Europe/Berlin
BEGIN:DAYLIGHT
TZOFFSETFROM:+0100
TZOFFSETTO:+0200
TZNAME:CEST
DTSTART:20230326T010000
END:DAYLIGHT
BEGIN:STANDARD
TZOFFSETFROM:+0200
TZOFFSETTO:+0100
TZNAME:CET
DTSTART:20231029T010000
END:STANDARD
BEGIN:DAYLIGHT
TZOFFSETFROM:+0100
TZOFFSETTO:+0200
TZNAME:CEST
DTSTART:20240331T010000
END:DAYLIGHT
BEGIN:STANDARD
TZOFFSETFROM:+0200
TZOFFSETTO:+0100
TZNAME:CET
DTSTART:20241027T010000
END:STANDARD
BEGIN:DAYLIGHT
TZOFFSETFROM:+0100
TZOFFSETTO:+0200
TZNAME:CEST
DTSTART:20250330T010000
END:DAYLIGHT
BEGIN:STANDARD
TZOFFSETFROM:+0200
TZOFFSETTO:+0100
TZNAME:CET
DTSTART:20251026T010000
END:STANDARD
END:VTIMEZONE
BEGIN:VEVENT
DTSTART;TZID=Europe/Berlin:20241215T140000
DTEND;TZID=Europe/Berlin:20241215T190000
DTSTAMP:20260423T223735
CREATED:20240821T200849Z
LAST-MODIFIED:20240821T200849Z
UID:11692-1734271200-1734289200@sjb-essen.de
SUMMARY:Weihnachtskonzert St. Josef
DESCRIPTION:
URL:https://sjb-essen.de/event/weihnachtskonzert-st-josef-3/
LOCATION:St. Josef\, Himmelpforten 13\, Essen\, 45359
END:VEVENT
BEGIN:VEVENT
DTSTART;TZID=Europe/Berlin:20241221T153000
DTEND;TZID=Europe/Berlin:20241221T180000
DTSTAMP:20260423T223735
CREATED:20240821T201131Z
LAST-MODIFIED:20240821T201228Z
UID:11694-1734795000-1734804000@sjb-essen.de
SUMMARY:Weihnachtskonzert Nachmittagsvorstellung
DESCRIPTION:
URL:https://sjb-essen.de/event/weihnachtskonzerte-nachmittagsvorstellung/
LOCATION:Mädchengymnasium Borbeck\, Fürstäbtissinstraße 52-54\, Essen\, 45355
END:VEVENT
BEGIN:VEVENT
DTSTART;TZID=Europe/Berlin:20241221T200000
DTEND;TZID=Europe/Berlin:20241221T230000
DTSTAMP:20260423T223735
CREATED:20240821T201211Z
LAST-MODIFIED:20240821T201211Z
UID:11696-1734811200-1734822000@sjb-essen.de
SUMMARY:Weihnachtskonzert Abendvorstellung
DESCRIPTION:
URL:https://sjb-essen.de/event/weihnachtskonzert-abendvorstellung-2/
LOCATION:Mädchengymnasium Borbeck\, Fürstäbtissinstraße 52-54\, Essen\, 45355
END:VEVENT
END:VCALENDAR