BEGIN:VCALENDAR
VERSION:2.0
PRODID:-//SJB Essen - ECPv6.15.20//NONSGML v1.0//EN
CALSCALE:GREGORIAN
METHOD:PUBLISH
X-WR-CALNAME:SJB Essen
X-ORIGINAL-URL:https://sjb-essen.de
X-WR-CALDESC:Veranstaltungen für SJB Essen
REFRESH-INTERVAL;VALUE=DURATION:PT1H
X-Robots-Tag:noindex
X-PUBLISHED-TTL:PT1H
BEGIN:VTIMEZONE
TZID:Europe/Berlin
BEGIN:DAYLIGHT
TZOFFSETFROM:+0100
TZOFFSETTO:+0200
TZNAME:CEST
DTSTART:20230326T010000
END:DAYLIGHT
BEGIN:STANDARD
TZOFFSETFROM:+0200
TZOFFSETTO:+0100
TZNAME:CET
DTSTART:20231029T010000
END:STANDARD
BEGIN:DAYLIGHT
TZOFFSETFROM:+0100
TZOFFSETTO:+0200
TZNAME:CEST
DTSTART:20240331T010000
END:DAYLIGHT
BEGIN:STANDARD
TZOFFSETFROM:+0200
TZOFFSETTO:+0100
TZNAME:CET
DTSTART:20241027T010000
END:STANDARD
BEGIN:DAYLIGHT
TZOFFSETFROM:+0100
TZOFFSETTO:+0200
TZNAME:CEST
DTSTART:20250330T010000
END:DAYLIGHT
BEGIN:STANDARD
TZOFFSETFROM:+0200
TZOFFSETTO:+0100
TZNAME:CET
DTSTART:20251026T010000
END:STANDARD
END:VTIMEZONE
BEGIN:VEVENT
DTSTART;TZID=Europe/Berlin:20240904T170000
DTEND;TZID=Europe/Berlin:20240904T190000
DTSTAMP:20260424T042824
CREATED:20240821T200656Z
LAST-MODIFIED:20240821T200656Z
UID:11688-1725469200-1725476400@sjb-essen.de
SUMMARY:Tag der offenen Tür
DESCRIPTION:
URL:https://sjb-essen.de/event/tag-der-offenen-tuer/
LOCATION:Notenkiste\, Schlossstr. 100\, Essen\, 45355
END:VEVENT
BEGIN:VEVENT
DTSTART;TZID=Europe/Berlin:20240928T180000
DTEND;TZID=Europe/Berlin:20240928T233000
DTSTAMP:20260424T042824
CREATED:20240921T073237Z
LAST-MODIFIED:20240921T073237Z
UID:11711-1727546400-1727566200@sjb-essen.de
SUMMARY:Oktoberfest Dampfe
DESCRIPTION:
URL:https://sjb-essen.de/event/oktoberfest-dampfe/
LOCATION:Dampfe\, Heinrich-Brauns-Straße 9-15\, Essen\, 45355\, Deutschland
END:VEVENT
END:VCALENDAR