BEGIN:VCALENDAR
VERSION:2.0
PRODID:-//SJB Essen - ECPv6.15.20//NONSGML v1.0//EN
CALSCALE:GREGORIAN
METHOD:PUBLISH
X-WR-CALNAME:SJB Essen
X-ORIGINAL-URL:https://sjb-essen.de
X-WR-CALDESC:Veranstaltungen für SJB Essen
REFRESH-INTERVAL;VALUE=DURATION:PT1H
X-Robots-Tag:noindex
X-PUBLISHED-TTL:PT1H
BEGIN:VTIMEZONE
TZID:Europe/Berlin
BEGIN:DAYLIGHT
TZOFFSETFROM:+0100
TZOFFSETTO:+0200
TZNAME:CEST
DTSTART:20220327T010000
END:DAYLIGHT
BEGIN:STANDARD
TZOFFSETFROM:+0200
TZOFFSETTO:+0100
TZNAME:CET
DTSTART:20221030T010000
END:STANDARD
BEGIN:DAYLIGHT
TZOFFSETFROM:+0100
TZOFFSETTO:+0200
TZNAME:CEST
DTSTART:20230326T010000
END:DAYLIGHT
BEGIN:STANDARD
TZOFFSETFROM:+0200
TZOFFSETTO:+0100
TZNAME:CET
DTSTART:20231029T010000
END:STANDARD
BEGIN:DAYLIGHT
TZOFFSETFROM:+0100
TZOFFSETTO:+0200
TZNAME:CEST
DTSTART:20240331T010000
END:DAYLIGHT
BEGIN:STANDARD
TZOFFSETFROM:+0200
TZOFFSETTO:+0100
TZNAME:CET
DTSTART:20241027T010000
END:STANDARD
END:VTIMEZONE
BEGIN:VEVENT
DTSTART;TZID=Europe/Berlin:20231124T170000
DTEND;TZID=Europe/Berlin:20231126T170000
DTSTAMP:20260423T225145
CREATED:20230113T130308Z
LAST-MODIFIED:20230113T130308Z
UID:4672-1700845200-1701018000@sjb-essen.de
SUMMARY:Probenwochenende
DESCRIPTION:
URL:https://sjb-essen.de/event/probenwochenende-3/
LOCATION:Nütterden\, Jugendtagungsstätte Wolfsberg e.V.\, Nütterden
END:VEVENT
END:VCALENDAR